BEGIN:VCALENDAR
VERSION:2.0
PRODID:-//Wander Wild Festival - ECPv6.15.20//NONSGML v1.0//EN
CALSCALE:GREGORIAN
METHOD:PUBLISH
X-WR-CALNAME:Wander Wild Festival
X-ORIGINAL-URL:https://wanderwildfestival.com
X-WR-CALDESC:Events for Wander Wild Festival
REFRESH-INTERVAL;VALUE=DURATION:PT1H
X-Robots-Tag:noindex
X-PUBLISHED-TTL:PT1H
BEGIN:VTIMEZONE
TZID:Europe/Dublin
BEGIN:STANDARD
TZOFFSETFROM:+0000
TZOFFSETTO:+0100
TZNAME:IST
DTSTART:20250330T010000
END:STANDARD
BEGIN:DAYLIGHT
TZOFFSETFROM:+0100
TZOFFSETTO:+0000
TZNAME:GMT
DTSTART:20251026T010000
END:DAYLIGHT
BEGIN:STANDARD
TZOFFSETFROM:+0000
TZOFFSETTO:+0100
TZNAME:IST
DTSTART:20260329T010000
END:STANDARD
BEGIN:DAYLIGHT
TZOFFSETFROM:+0100
TZOFFSETTO:+0000
TZNAME:GMT
DTSTART:20261025T010000
END:DAYLIGHT
BEGIN:STANDARD
TZOFFSETFROM:+0000
TZOFFSETTO:+0100
TZNAME:IST
DTSTART:20270328T010000
END:STANDARD
BEGIN:DAYLIGHT
TZOFFSETFROM:+0100
TZOFFSETTO:+0000
TZNAME:GMT
DTSTART:20271031T010000
END:DAYLIGHT
END:VTIMEZONE
BEGIN:VTIMEZONE
TZID:UTC
BEGIN:STANDARD
TZOFFSETFROM:+0000
TZOFFSETTO:+0000
TZNAME:UTC
DTSTART:20250101T000000
END:STANDARD
END:VTIMEZONE
BEGIN:VEVENT
DTSTART;VALUE=DATE:20260417
DTEND;VALUE=DATE:20260420
DTSTAMP:20260423T170304
CREATED:20260127T115615Z
LAST-MODIFIED:20260408T145116Z
UID:987502715-1776384000-1776643199@wanderwildfestival.com
SUMMARY:Adventure Wanderer Weekend
DESCRIPTION:Experiential Outdoor Weekend with: Rock Climbing in the Gap of Dunloe\, Summit Ireland’s highest peak Carauntoohil and recover with an invigorating Sunrise Lake Dip and Sauna
URL:https://wanderwildfestival.com/event/adventurer-wanderer-weekend/
CATEGORIES:All Weekend
ATTACH;FMTTYPE=image/png:https://wanderwildfestival.com/wp-content/uploads/2026/01/Wander-Wild-Packages-Adventurer-Wanderer.png
END:VEVENT
BEGIN:VEVENT
DTSTART;VALUE=DATE:20260417
DTEND;VALUE=DATE:20260420
DTSTAMP:20260423T170304
CREATED:20260127T120307Z
LAST-MODIFIED:20260408T145123Z
UID:987502720-1776384000-1776643199@wanderwildfestival.com
SUMMARY:Rambling Wanderer Weekend
DESCRIPTION:The perfect blend of culture\, adventure and wellness featuring our Seanchoíche storytelling event\, Gap of Dunloe Boat and Hike and 5 Elements Flow Yoga!
URL:https://wanderwildfestival.com/event/rambling-wanderer-weekend-2/
CATEGORIES:All Weekend
ATTACH;FMTTYPE=image/png:https://wanderwildfestival.com/wp-content/uploads/2026/01/Wander-Wild-Packages-SQUARE-2.png
END:VEVENT
BEGIN:VEVENT
DTSTART;VALUE=DATE:20260417
DTEND;VALUE=DATE:20260420
DTSTAMP:20260423T170304
CREATED:20260127T120609Z
LAST-MODIFIED:20260408T145125Z
UID:987502723-1776384000-1776643199@wanderwildfestival.com
SUMMARY:Wellness Wanderer Weekend
DESCRIPTION:A Mindful Wellness Weekend with Bigi Linn Movement and Meditation\, invigorating Sunrise Dip and a relaxing Lakeside Sauna\, a wild food foraging walk and workshop and Child of the Earth\, a moving meditation for play\, release and remembering.
URL:https://wanderwildfestival.com/event/wellness-wanderer-weekend-2/
CATEGORIES:All Weekend
ATTACH;FMTTYPE=image/png:https://wanderwildfestival.com/wp-content/uploads/2026/01/Wander-Wild-Packages-SQUARE-1.png
END:VEVENT
BEGIN:VEVENT
DTSTART;VALUE=DATE:20260417
DTEND;VALUE=DATE:20260420
DTSTAMP:20260423T170304
CREATED:20260408T154436Z
LAST-MODIFIED:20260416T131017Z
UID:987503891-1776384000-1776643199@wanderwildfestival.com
SUMMARY:Muckross Lake Self Guided Loop for Families
DESCRIPTION:Self-Guided walking loop of Muckross Lake
URL:https://wanderwildfestival.com/event/muckross-lake-self-guided-loop-for-families-self-2-1/
CATEGORIES:All Weekend,Family Events,Self Guided Event
ATTACH;FMTTYPE=image/webp:https://wanderwildfestival.com/wp-content/uploads/2026/01/329838_Muckross20Lake-B6T2uS.webp
END:VEVENT
BEGIN:VEVENT
DTSTART;VALUE=DATE:20260417
DTEND;VALUE=DATE:20260420
DTSTAMP:20260423T170304
CREATED:20260408T154643Z
LAST-MODIFIED:20260408T155207Z
UID:987503894-1776384000-1776643199@wanderwildfestival.com
SUMMARY:Self Guided Cycles In The National Park
DESCRIPTION:Self-Guided Cycle routes in Killarney National Park \n 
URL:https://wanderwildfestival.com/event/self-guided-cycles-in-the-national-park-3-self/
CATEGORIES:All Weekend,Self Guided Event
ATTACH;FMTTYPE=image/png:https://wanderwildfestival.com/wp-content/uploads/2026/01/354030_Self20Guided20Cycle-9zeqkH.png
END:VEVENT
BEGIN:VEVENT
DTSTART;VALUE=DATE:20260417
DTEND;VALUE=DATE:20260420
DTSTAMP:20260423T170304
CREATED:20260408T154817Z
LAST-MODIFIED:20260408T154817Z
UID:987503896-1776384000-1776643199@wanderwildfestival.com
SUMMARY:Tomies Wood Self-Guided Loop Walk For Families
DESCRIPTION:Self-Guided loop walk for families at Tomies Wood \n 
URL:https://wanderwildfestival.com/event/tomies-wood-self-guided-loop-walk-for-families-3/
CATEGORIES:All Weekend,Family Events,Self Guided Event
ATTACH;FMTTYPE=image/webp:https://wanderwildfestival.com/wp-content/uploads/2026/01/329833_Tomies-wood-paKlW9.webp
END:VEVENT
END:VCALENDAR