BEGIN:VCALENDAR
VERSION:2.0
PRODID:-//Wander Wild Festival - ECPv6.15.20//NONSGML v1.0//EN
CALSCALE:GREGORIAN
METHOD:PUBLISH
X-WR-CALNAME:Wander Wild Festival
X-ORIGINAL-URL:https://wanderwildfestival.com
X-WR-CALDESC:Events for Wander Wild Festival
REFRESH-INTERVAL;VALUE=DURATION:PT1H
X-Robots-Tag:noindex
X-PUBLISHED-TTL:PT1H
BEGIN:VTIMEZONE
TZID:Europe/Dublin
BEGIN:STANDARD
TZOFFSETFROM:+0000
TZOFFSETTO:+0100
TZNAME:IST
DTSTART:20250330T010000
END:STANDARD
BEGIN:DAYLIGHT
TZOFFSETFROM:+0100
TZOFFSETTO:+0000
TZNAME:GMT
DTSTART:20251026T010000
END:DAYLIGHT
BEGIN:STANDARD
TZOFFSETFROM:+0000
TZOFFSETTO:+0100
TZNAME:IST
DTSTART:20260329T010000
END:STANDARD
BEGIN:DAYLIGHT
TZOFFSETFROM:+0100
TZOFFSETTO:+0000
TZNAME:GMT
DTSTART:20261025T010000
END:DAYLIGHT
BEGIN:STANDARD
TZOFFSETFROM:+0000
TZOFFSETTO:+0100
TZNAME:IST
DTSTART:20270328T010000
END:STANDARD
BEGIN:DAYLIGHT
TZOFFSETFROM:+0100
TZOFFSETTO:+0000
TZNAME:GMT
DTSTART:20271031T010000
END:DAYLIGHT
END:VTIMEZONE
BEGIN:VTIMEZONE
TZID:UTC
BEGIN:STANDARD
TZOFFSETFROM:+0000
TZOFFSETTO:+0000
TZNAME:UTC
DTSTART:20250101T000000
END:STANDARD
END:VTIMEZONE
BEGIN:VEVENT
DTSTART;TZID=Europe/Dublin:20260417T193000
DTEND;TZID=Europe/Dublin:20260417T203000
DTSTAMP:20260423T165705
CREATED:20260216T123902Z
LAST-MODIFIED:20260412T194542Z
UID:987502798-1776454200-1776457800@wanderwildfestival.com
SUMMARY:WestWords: Poetry & Spoken Word
DESCRIPTION:WestWords: Poetry & Spoken Word
URL:https://wanderwildfestival.com/event/westwords-poetry-spoken-word-2/
CATEGORIES:Connect,Featured
ATTACH;FMTTYPE=image/jpeg:https://wanderwildfestival.com/wp-content/uploads/2026/02/westWords11.jpg
END:VEVENT
BEGIN:VEVENT
DTSTART;TZID=Europe/Dublin:20260417T213000
DTEND;TZID=Europe/Dublin:20260417T230000
DTSTAMP:20260423T165705
CREATED:20260216T123258Z
LAST-MODIFIED:20260410T173412Z
UID:987502795-1776461400-1776466800@wanderwildfestival.com
SUMMARY:SEANCHOÍCHE
DESCRIPTION:Ordinary people telling extraordinary stories!
URL:https://wanderwildfestival.com/event/seanchoiche-2/
CATEGORIES:Connect,Cultur,Featured,Friday
ATTACH;FMTTYPE=image/webp:https://wanderwildfestival.com/wp-content/uploads/2026/02/358400_seanchoice.webp
END:VEVENT
BEGIN:VEVENT
DTSTART;TZID=Europe/Dublin:20260418T093000
DTEND;TZID=Europe/Dublin:20260418T133000
DTSTAMP:20260423T165705
CREATED:20251212T112553Z
LAST-MODIFIED:20260410T174354Z
UID:987502461-1776504600-1776519000@wanderwildfestival.com
SUMMARY:Hike to North Mangerton with Tadhg O'Brien
DESCRIPTION:Join Irish adventure content creator Tadhg O’Brien on a Social Summit of Mangerton
URL:https://wanderwildfestival.com/event/guided-hike-to-north-mangerton/
CATEGORIES:Experience,Featured,Saturday
ATTACH;FMTTYPE=image/jpeg:https://wanderwildfestival.com/wp-content/uploads/2025/12/tadhgObrien.jpg
END:VEVENT
BEGIN:VEVENT
DTSTART;TZID=Europe/Dublin:20260418T093000
DTEND;TZID=Europe/Dublin:20260418T163000
DTSTAMP:20260423T165705
CREATED:20251212T113034Z
LAST-MODIFIED:20260410T174246Z
UID:987502502-1776504600-1776529800@wanderwildfestival.com
SUMMARY:Ireland's 3 Highest Peaks - Coomloughra Horseshoe
DESCRIPTION:Explore the wild wonder of Ireland’s three highest peaks in a stunning horseshoe hike over Beenkeragh\, Carrauntoohil\, and Caher\, each over 1\,000m high.
URL:https://wanderwildfestival.com/event/irelands-3-highest-peaks-coomloughra-horseshoe-2/
CATEGORIES:Explore,Featured,Saturday
ATTACH;FMTTYPE=image/jpeg:https://wanderwildfestival.com/wp-content/uploads/2025/12/331392_Coomloughra.jpg
END:VEVENT
BEGIN:VEVENT
DTSTART;TZID=Europe/Dublin:20260418T110000
DTEND;TZID=Europe/Dublin:20260418T130000
DTSTAMP:20260423T165705
CREATED:20260224T161513Z
LAST-MODIFIED:20260410T174756Z
UID:987502839-1776510000-1776517200@wanderwildfestival.com
SUMMARY:Outsider Trail Running
DESCRIPTION:Level up your trail running with expert-led coaching\, practical skills\, and real-world trail experience in Tomies Woods\, Killarney.
URL:https://wanderwildfestival.com/event/outsider-trail-running-event-2/
CATEGORIES:Featured,Saturday
ATTACH;FMTTYPE=image/jpeg:https://wanderwildfestival.com/wp-content/uploads/2026/02/outsideTrailRunning.jpg
END:VEVENT
BEGIN:VEVENT
DTSTART;TZID=Europe/Dublin:20260418T140000
DTEND;TZID=Europe/Dublin:20260418T160000
DTSTAMP:20260423T165705
CREATED:20260224T161251Z
LAST-MODIFIED:20260413T184111Z
UID:987502833-1776520800-1776528000@wanderwildfestival.com
SUMMARY:Live Podcast - How to Gael
DESCRIPTION:How To Gael is Ireland’s number one bilingual podcast. Discussing their favourite lines in Irish literature to rationalising the necessity of weekly blow dries (a.k.a. ESSENTIAL)\, these mná represent a new generation of Gaels.
URL:https://wanderwildfestival.com/event/live-podcast-how-to-gael-2/
CATEGORIES:Cultur,Featured,Saturday
ATTACH;FMTTYPE=image/jpeg:https://wanderwildfestival.com/wp-content/uploads/2026/02/howtogael.jpg
END:VEVENT
BEGIN:VEVENT
DTSTART;TZID=Europe/Dublin:20260418T153000
DTEND;TZID=Europe/Dublin:20260418T163000
DTSTAMP:20260423T165705
CREATED:20251212T113019Z
LAST-MODIFIED:20260410T175334Z
UID:987502495-1776526200-1776529800@wanderwildfestival.com
SUMMARY:A Cacao Moment Ceremony
DESCRIPTION:A heart-opening cacao ceremony with gentle reflection and guided intention-setting for emotional clarity and connection
URL:https://wanderwildfestival.com/event/a-cacao-moment-ceremony-catriona-lawlor/
CATEGORIES:Experience,Featured,Saturday
ATTACH;FMTTYPE=image/jpeg:https://wanderwildfestival.com/wp-content/uploads/2025/12/410257_Cacao-Moment-Pi1meU.jpg
END:VEVENT
BEGIN:VEVENT
DTSTART;TZID=UTC:20260418T191500
DTEND;TZID=UTC:20260418T210000
DTSTAMP:20260423T165705
CREATED:20260306T134301Z
LAST-MODIFIED:20260410T175733Z
UID:987503079-1776539700-1776546000@wanderwildfestival.com
SUMMARY:Kirtan & Ceol
DESCRIPTION:An uplifting evening of mantra\, music and connection\, this heart-opening Kirtan invites you to experience the power of shared voice & sacred sound
URL:https://wanderwildfestival.com/event/kirtan-ceol/
CATEGORIES:Cultur,Experience,Featured,Saturday
ATTACH;FMTTYPE=image/jpeg:https://wanderwildfestival.com/wp-content/uploads/2026/03/384547_Kirtan22.jpg
END:VEVENT
BEGIN:VEVENT
DTSTART;TZID=Europe/Dublin:20260419T100000
DTEND;TZID=Europe/Dublin:20260419T130000
DTSTAMP:20260423T165705
CREATED:20251212T113238Z
LAST-MODIFIED:20260410T180341Z
UID:987502516-1776592800-1776603600@wanderwildfestival.com
SUMMARY:Kayak Ross Castle and Inisfallen Island
DESCRIPTION:Discover the stunning beauty of Killarney’s world-famous lakes on a gentle kayaking adventure
URL:https://wanderwildfestival.com/event/kayak-ross-castle-and-inisfallen-island-9/
CATEGORIES:Featured,Lake,Sunday
ATTACH;FMTTYPE=image/webp:https://wanderwildfestival.com/wp-content/uploads/2025/12/324210_Kayak-EvcYRV.webp
END:VEVENT
END:VCALENDAR